BEGIN:VCALENDAR
PRODID:-//eluceo/ical//2.0/EN
VERSION:2.0
CALSCALE:GREGORIAN
BEGIN:VEVENT
UID:e0faacdf432ddd4122e957da4b6e179a
DTSTAMP:20260423T034724Z
SUMMARY:[Männer LK4] CVJM Kusterdingen e.V.  - CVJM HB Dußlingen-Gomaring
 en 2
URL:https://www.eichenkreuzliga.de/handball/game/id/13059
DTSTART:20201205T180000
DTEND:20201205T190000
LOCATION:Härtensporthalle\, 72127 Kusterdingen
END:VEVENT
END:VCALENDAR
