BEGIN:VCALENDAR
PRODID:-//eluceo/ical//2.0/EN
VERSION:2.0
CALSCALE:GREGORIAN
BEGIN:VEVENT
UID:63b6d78377b328f43ed8085c02cb7561
DTSTAMP:20260423T014838Z
SUMMARY:[männliche B-Jugend Runde] CVJM Hagelloch SG Hagelloch/Kusterdinge
 n - CVJM Enzweihingen 
URL:https://www.eichenkreuzliga.de/handball/game/id/13062
DTSTART:20201108T163000
DTEND:20201108T173000
LOCATION:Sporthalle Waldhäuser-Ost\, 72076 Tübingen
END:VEVENT
END:VCALENDAR
