BEGIN:VCALENDAR
PRODID:-//eluceo/ical//2.0/EN
VERSION:2.0
CALSCALE:GREGORIAN
BEGIN:VEVENT
UID:68853f62574ccbcff4fc0824b4202361
DTSTAMP:20260423T034621Z
SUMMARY:[weibliche C-Jugend Runde] EJW Münchingen  - CVJM HB Dußlingen-Go
 maringen 1
URL:https://www.eichenkreuzliga.de/handball/game/id/13079
DTSTART:20210328T133000
DTEND:20210328T143000
LOCATION:Sporthalle Münchingen\, 70825 Korntal-Münchingen
END:VEVENT
END:VCALENDAR
