BEGIN:VCALENDAR
PRODID:-//eluceo/ical//2.0/EN
VERSION:2.0
CALSCALE:GREGORIAN
BEGIN:VEVENT
UID:c32a7b30ae44ee6be7df2511106dae39
DTSTAMP:20260423T034620Z
SUMMARY:[männliche A-Jugend Runde] CVJM Fellbach  - EK Bernhausen 
URL:https://www.eichenkreuzliga.de/handball/game/id/13095
DTSTART:20201107T183000
DTEND:20201107T193000
LOCATION:Zeppelinhalle\, 70734 Fellbach
END:VEVENT
END:VCALENDAR
