BEGIN:VCALENDAR
PRODID:-//eluceo/ical//2.0/EN
VERSION:2.0
CALSCALE:GREGORIAN
BEGIN:VEVENT
UID:cc110a3ce12bb2abf22f3607821f036b
DTSTAMP:20260423T034620Z
SUMMARY:[männliche C-Jugend Runde] CVJM Kusterdingen e.V.  - CVJM Untertü
 rkheim 
URL:https://www.eichenkreuzliga.de/handball/game/id/12832
DTSTART:20210116T140000
DTEND:20210116T150000
LOCATION:Härtensporthalle\, 72127 Kusterdingen
END:VEVENT
END:VCALENDAR
