BEGIN:VCALENDAR
PRODID:-//eluceo/ical//2.0/EN
VERSION:2.0
CALSCALE:GREGORIAN
BEGIN:VEVENT
UID:c2a92d6188ad673dabeaad608a4ae38f
DTSTAMP:20260423T051030Z
SUMMARY:[Männer Landesliga] EK Köngen  - CVJM Flacht 
URL:https://www.eichenkreuzliga.de/handball/game/id/13103
DTSTART:20210207T190000
DTEND:20210207T200000
LOCATION:Burgschulhalle\, 73257 Köngen
END:VEVENT
END:VCALENDAR
