BEGIN:VCALENDAR
PRODID:-//eluceo/ical//2.0/EN
VERSION:2.0
CALSCALE:GREGORIAN
BEGIN:VEVENT
UID:afb3e7c68a35c3b213cb2490c2ed36a0
DTSTAMP:20260423T035108Z
SUMMARY:[Männer Landesliga] CVJM  Walddorfhäslach  - EK Höfingen 
URL:https://www.eichenkreuzliga.de/handball/game/id/13107
DTSTART:20210124T170000
DTEND:20210124T180000
LOCATION:Ballspielhalle\, 72141 Walddorfhäslach
END:VEVENT
END:VCALENDAR
