BEGIN:VCALENDAR
PRODID:-//eluceo/ical//2.0/EN
VERSION:2.0
CALSCALE:GREGORIAN
BEGIN:VEVENT
UID:75a37e2d02817ff6391a0b0c160da3b8
DTSTAMP:20260423T051301Z
SUMMARY:[Männer Lk3] CVJM Wildberg  - EK Köngen 1c
URL:https://www.eichenkreuzliga.de/handball/game/id/13108
DTSTART:20210307T160000
DTEND:20210307T170000
LOCATION:Sporthalle Wildberg\, 72218 Wildberg
END:VEVENT
END:VCALENDAR
