BEGIN:VCALENDAR
PRODID:-//eluceo/ical//2.0/EN
VERSION:2.0
CALSCALE:GREGORIAN
BEGIN:VEVENT
UID:b3916284bf2a3f565add05edec3b594c
DTSTAMP:20260423T051306Z
SUMMARY:[weibliche D-Jugend Runde] CVJM Möglingen  - EK Bernhausen 
URL:https://www.eichenkreuzliga.de/handball/game/id/13109
DTSTART:20201107T150000
DTEND:20201107T160000
LOCATION:Stadionhalle\, 71696 Möglingen
END:VEVENT
END:VCALENDAR
