BEGIN:VCALENDAR
PRODID:-//eluceo/ical//2.0/EN
VERSION:2.0
CALSCALE:GREGORIAN
BEGIN:VEVENT
UID:0c9e8fd988d13576fbfa6de298192716
DTSTAMP:20260423T003133Z
SUMMARY:[Männer Landesliga] CVJM Möglingen  - EK Höfingen 
URL:https://www.eichenkreuzliga.de/handball/game/id/13113
DTSTART:20201128T180000
DTEND:20201128T190000
LOCATION:Stadionhalle\, 71696 Möglingen
END:VEVENT
END:VCALENDAR
