BEGIN:VCALENDAR
PRODID:-//eluceo/ical//2.0/EN
VERSION:2.0
CALSCALE:GREGORIAN
BEGIN:VEVENT
UID:52fd3856796b93eeb0e80376c64a2100
DTSTAMP:20260423T035108Z
SUMMARY:[Männer Landesliga] CVJM  Walddorfhäslach  - CVJM SG Mössingen/B
 elsen 
URL:https://www.eichenkreuzliga.de/handball/game/id/13116
DTSTART:20210320T190000
DTEND:20210320T200000
LOCATION:Ballspielhalle\, 72141 Walddorfhäslach
END:VEVENT
END:VCALENDAR
