BEGIN:VCALENDAR
PRODID:-//eluceo/ical//2.0/EN
VERSION:2.0
CALSCALE:GREGORIAN
BEGIN:VEVENT
UID:e8287a6abb7007254b7da719228909f1
DTSTAMP:20260422T224909Z
SUMMARY:[männliche D-Jugend Runde] CVJM Möglingen  - CVJM  Walddorfhäsla
 ch 
URL:https://www.eichenkreuzliga.de/handball/game/id/13117
DTSTART:20210418T133000
DTEND:20210418T143000
LOCATION:Zeppelinhalle\, 70734 Fellbach
END:VEVENT
END:VCALENDAR
