BEGIN:VCALENDAR
PRODID:-//eluceo/ical//2.0/EN
VERSION:2.0
CALSCALE:GREGORIAN
BEGIN:VEVENT
UID:ca2a5baf70789c02ad4a82cc0ad540bf
DTSTAMP:20260423T001847Z
SUMMARY:[männliche D-Jugend Runde] CVJM Fellbach  - CVJM Möglingen 
URL:https://www.eichenkreuzliga.de/handball/game/id/13118
DTSTART:20210418T123000
DTEND:20210418T133000
LOCATION:Zeppelinhalle\, 70734 Fellbach
END:VEVENT
END:VCALENDAR
