BEGIN:VCALENDAR
PRODID:-//eluceo/ical//2.0/EN
VERSION:2.0
CALSCALE:GREGORIAN
BEGIN:VEVENT
UID:b50214ed0171c76dc80b490fc09bb680
DTSTAMP:20260422T224813Z
SUMMARY:[männliche D-Jugend Runde] EK Bernhausen 1 - CVJM  Walddorfhäslac
 h 
URL:https://www.eichenkreuzliga.de/handball/game/id/13119
DTSTART:20210418T143000
DTEND:20210418T153000
LOCATION:Zeppelinhalle\, 70734 Fellbach
END:VEVENT
END:VCALENDAR
