BEGIN:VCALENDAR
PRODID:-//eluceo/ical//2.0/EN
VERSION:2.0
CALSCALE:GREGORIAN
BEGIN:VEVENT
UID:fa043ca1c281ccf4d64fd750c5a10f10
DTSTAMP:20260423T034914Z
SUMMARY:[männliche A-Jugend Runde] CVJM Fellbach  - EK Höfingen 
URL:https://www.eichenkreuzliga.de/handball/game/id/13122
DTSTART:20210327T183000
DTEND:20210327T193000
LOCATION:Zeppelinhalle\, 70734 Fellbach
END:VEVENT
END:VCALENDAR
