BEGIN:VCALENDAR
PRODID:-//eluceo/ical//2.0/EN
VERSION:2.0
CALSCALE:GREGORIAN
BEGIN:VEVENT
UID:72be6448f51e507509f73d989d090fc9
DTSTAMP:20260423T033124Z
SUMMARY:[Männer Lk3] EK Köngen 1c - CVJM Wildberg 
URL:https://www.eichenkreuzliga.de/handball/game/id/13170
DTSTART:20210327T170000
DTEND:20210327T180000
LOCATION:Burgschulhalle\, 73257 Köngen
END:VEVENT
END:VCALENDAR
