BEGIN:VCALENDAR
PRODID:-//eluceo/ical//2.0/EN
VERSION:2.0
CALSCALE:GREGORIAN
BEGIN:VEVENT
UID:e5b2b0b4aa042322f7a91e657b05d55b
DTSTAMP:20260423T070047Z
SUMMARY:[Männer Meisterrunde LK4] EK Testverein  - EK Testverein 
URL:https://www.eichenkreuzliga.de/handball/game/id/13172
DTSTART:20210410T153000
DTEND:20210410T163000
LOCATION:Stadionhalle\, 71696 Möglingen
END:VEVENT
END:VCALENDAR
