BEGIN:VCALENDAR
PRODID:-//eluceo/ical//2.0/EN
VERSION:2.0
CALSCALE:GREGORIAN
BEGIN:VEVENT
UID:d17515c3d3ab179bda37a30d4533b757
DTSTAMP:20260423T052832Z
SUMMARY:[Männer Meisterrunde LK4] EK Testverein  - EK Testverein 
URL:https://www.eichenkreuzliga.de/handball/game/id/13173
DTSTART:20210410T133000
DTEND:20210410T143000
LOCATION:Stadionhalle\, 71696 Möglingen
END:VEVENT
END:VCALENDAR
