BEGIN:VCALENDAR
PRODID:-//eluceo/ical//2.0/EN
VERSION:2.0
CALSCALE:GREGORIAN
BEGIN:VEVENT
UID:9d0750061938597816490d976c07b101
DTSTAMP:20260423T070023Z
SUMMARY:[Männer Meisterrunde LK4] EK Testverein  - EK Testverein 
URL:https://www.eichenkreuzliga.de/handball/game/id/13175
DTSTART:20210418T160000
DTEND:20210418T170000
LOCATION:Jahnhalle 2\, 72116 Mössingen
END:VEVENT
END:VCALENDAR
