BEGIN:VCALENDAR
PRODID:-//eluceo/ical//2.0/EN
VERSION:2.0
CALSCALE:GREGORIAN
BEGIN:VEVENT
UID:598dba8fb0249aac0dceccaf343bb22f
DTSTAMP:20260423T034620Z
SUMMARY:[Männer Landesliga] CVJM  Walddorfhäslach  - CVJM HB Dußlingen-G
 omaringen 
URL:https://www.eichenkreuzliga.de/handball/game/id/13183
DTSTART:20201120T203000
DTEND:20201120T213000
LOCATION:Ballspielhalle\, 72141 Walddorfhäslach
END:VEVENT
END:VCALENDAR
