BEGIN:VCALENDAR
PRODID:-//eluceo/ical//2.0/EN
VERSION:2.0
CALSCALE:GREGORIAN
BEGIN:VEVENT
UID:acc183228b2d736bee3aa40c13f1d10a
DTSTAMP:20260419T125117Z
SUMMARY:[männliche D-Jugend Runde] EK Bernhausen 1 - CVJM Fellbach 
URL:https://www.eichenkreuzliga.de/handball/game/id/16143
DTSTART:20231118T120000
DTEND:20231118T130000
LOCATION:Elisabeth-Selbert-Gymnasium Halle\, 70794 Bernhausen
END:VEVENT
END:VCALENDAR
