BEGIN:VCALENDAR
PRODID:-//eluceo/ical//2.0/EN
VERSION:2.0
CALSCALE:GREGORIAN
BEGIN:VEVENT
UID:34731743723b069df950b642d4e77c9d
DTSTAMP:20260419T123055Z
SUMMARY:[männliche E-Jugend Runde] CVJM Kirchentellinsfurt  - EJW Münchin
 gen 
URL:https://www.eichenkreuzliga.de/handball/game/id/16216
DTSTART:20231216T155000
DTEND:20231216T165000
LOCATION:Sporthalle\, 72138 Kirchentellinsfurt
END:VEVENT
END:VCALENDAR
