BEGIN:VCALENDAR
PRODID:-//eluceo/ical//2.0/EN
VERSION:2.0
CALSCALE:GREGORIAN
BEGIN:VEVENT
UID:b4ae4df35814d6610b85b37ed46ac2c5
DTSTAMP:20260419T123134Z
SUMMARY:[männliche E-Jugend Runde] CVJM Möglingen  - CVJM HB Dußlingen-G
 omaringen 1
URL:https://www.eichenkreuzliga.de/handball/game/id/16278
DTSTART:20240309T131000
DTEND:20240309T141000
LOCATION:Stadionhalle\, 71696 Möglingen
END:VEVENT
END:VCALENDAR
