BEGIN:VCALENDAR
PRODID:-//eluceo/ical//2.0/EN
VERSION:2.0
CALSCALE:GREGORIAN
BEGIN:VEVENT
UID:439a6beddfab12100b2e52608e4b5a5d
DTSTAMP:20260423T105219Z
SUMMARY:[Männer Landesliga] EK Köngen  - CVJM Enzweihingen 
URL:https://www.eichenkreuzliga.de/handball/game/id/16826
DTSTART:20240302T190000
DTEND:20240302T200000
LOCATION:Burgschulhalle\, 73257 Köngen
END:VEVENT
END:VCALENDAR
