BEGIN:VCALENDAR
PRODID:-//eluceo/ical//2.0/EN
VERSION:2.0
CALSCALE:GREGORIAN
BEGIN:VEVENT
UID:2411c93d0fea57a115cc016a9674efa0
DTSTAMP:20260419T122924Z
SUMMARY:[weibliche B-Jugend Runde] CVJM Hülben  - EJW Münchingen 
URL:https://www.eichenkreuzliga.de/handball/game/id/17129
DTSTART:20240224T160000
DTEND:20240224T170000
LOCATION:Falkensteinhalle\, 72582 Grabenstetten
END:VEVENT
END:VCALENDAR
