BEGIN:VCALENDAR
PRODID:-//eluceo/ical//2.0/EN
VERSION:2.0
CALSCALE:GREGORIAN
BEGIN:VEVENT
UID:d5db8cd2723c29e9a8b571c15956ea9b
DTSTAMP:20260419T122805Z
SUMMARY:[weibliche B-Jugend Runde] EJW Münchingen AK als wB2 - EJW Münchi
 ngen 
URL:https://www.eichenkreuzliga.de/handball/game/id/17145
DTSTART:20231203T141500
DTEND:20231203T151500
LOCATION:Sporthalle Münchingen\, 70825 Korntal-Münchingen
END:VEVENT
END:VCALENDAR
