BEGIN:VCALENDAR
PRODID:-//eluceo/ical//2.0/EN
VERSION:2.0
CALSCALE:GREGORIAN
BEGIN:VEVENT
UID:fc66dc089ee91c028ebf2ac64db4d6dd
DTSTAMP:20260419T122822Z
SUMMARY:[weibliche B-Jugend Runde] EK Bernhausen a.K. - EJW Münchingen AK 
 als wB2
URL:https://www.eichenkreuzliga.de/handball/game/id/17155
DTSTART:20240127T163000
DTEND:20240127T173000
LOCATION:Elisabeth-Selbert-Gymnasium Halle\, 70794 Bernhausen
END:VEVENT
END:VCALENDAR
