BEGIN:VCALENDAR
PRODID:-//eluceo/ical//2.0/EN
VERSION:2.0
CALSCALE:GREGORIAN
BEGIN:VEVENT
UID:587ef5a358f3f2a671fbcb675986f784
DTSTAMP:20260419T122713Z
SUMMARY:[weibliche B-Jugend Runde] CVJM Kirchentellinsfurt  - CVJM Kusterdi
 ngen e.V. Kusterdingen-Hagelloch
URL:https://www.eichenkreuzliga.de/handball/game/id/17161
DTSTART:20240302T150000
DTEND:20240302T160000
LOCATION:Härtensporthalle\, 72127 Kusterdingen
END:VEVENT
END:VCALENDAR
