BEGIN:VCALENDAR
PRODID:-//eluceo/ical//2.0/EN
VERSION:2.0
CALSCALE:GREGORIAN
BEGIN:VEVENT
UID:ba7c398cfc378c125e9f0838f1a75406
DTSTAMP:20260421T170640Z
SUMMARY:[männliche E-Jugend Runde] CVJM Plochingen a.K. - CVJM  Walddorfh
 äslach 2
URL:https://www.eichenkreuzliga.de/handball/game/id/17536
DTSTART:20241214T131000
DTEND:20241214T141000
LOCATION:Jahnhalle 2\, 72116 Mössingen
END:VEVENT
END:VCALENDAR
