BEGIN:VCALENDAR
PRODID:-//eluceo/ical//2.0/EN
VERSION:2.0
CALSCALE:GREGORIAN
BEGIN:VEVENT
UID:fc76a39dab3d8aafb56b21a21b0df658
DTSTAMP:20260421T170916Z
SUMMARY:[männliche E-Jugend Runde] CVJM SG Mössingen/Belsen a.K. - CVJM  
 Walddorfhäslach 2
URL:https://www.eichenkreuzliga.de/handball/game/id/17538
DTSTART:20241214T143000
DTEND:20241214T153000
LOCATION:Jahnhalle 2\, 72116 Mössingen
END:VEVENT
END:VCALENDAR
