BEGIN:VCALENDAR
PRODID:-//eluceo/ical//2.0/EN
VERSION:2.0
CALSCALE:GREGORIAN
BEGIN:VEVENT
UID:0ca2125e967ff1adac0b3901611ed225
DTSTAMP:20260421T171224Z
SUMMARY:[männliche E-Jugend Runde] SG Hagelloch/Kusterdingen 1 - CVJM  Wal
 ddorfhäslach 2
URL:https://www.eichenkreuzliga.de/handball/game/id/17550
DTSTART:20250112T130000
DTEND:20250112T140000
LOCATION:Härtensporthalle\, 72127 Kusterdingen
END:VEVENT
END:VCALENDAR
