BEGIN:VCALENDAR
PRODID:-//eluceo/ical//2.0/EN
VERSION:2.0
CALSCALE:GREGORIAN
BEGIN:VEVENT
UID:3520912a47dedb76417616ba396c3e8f
DTSTAMP:20260421T170438Z
SUMMARY:[männliche E-Jugend Runde] SG Hagelloch/Kusterdingen 2 - CVJM  Wal
 ddorfhäslach 2
URL:https://www.eichenkreuzliga.de/handball/game/id/17551
DTSTART:20250112T143000
DTEND:20250112T153000
LOCATION:Härtensporthalle\, 72127 Kusterdingen
END:VEVENT
END:VCALENDAR
