BEGIN:VCALENDAR
PRODID:-//eluceo/ical//2.0/EN
VERSION:2.0
CALSCALE:GREGORIAN
BEGIN:VEVENT
UID:44bec0b1ffe7d489fd10edbc51626f67
DTSTAMP:20260421T171132Z
SUMMARY:[männliche E-Jugend Runde] EJW Münchingen  - CVJM  Walddorfhäsla
 ch 2
URL:https://www.eichenkreuzliga.de/handball/game/id/17564
DTSTART:20250202T143000
DTEND:20250202T153000
LOCATION:Elisabeth-Selbert-Gymnasium Halle\, 70794 Bernhausen
END:VEVENT
END:VCALENDAR
