BEGIN:VCALENDAR
PRODID:-//eluceo/ical//2.0/EN
VERSION:2.0
CALSCALE:GREGORIAN
BEGIN:VEVENT
UID:6066428b78f1b5891346950f92bc1a51
DTSTAMP:20260421T171005Z
SUMMARY:[männliche E-Jugend Runde] CVJM Kirchentellinsfurt  - CVJM  Walddo
 rfhäslach 2
URL:https://www.eichenkreuzliga.de/handball/game/id/17578
DTSTART:20250222T130000
DTEND:20250222T140000
LOCATION:Sporthalle\, 72138 Kirchentellinsfurt
END:VEVENT
END:VCALENDAR
