BEGIN:VCALENDAR
PRODID:-//eluceo/ical//2.0/EN
VERSION:2.0
CALSCALE:GREGORIAN
BEGIN:VEVENT
UID:7c38f99c8aff8e58c7308b86411c56fe
DTSTAMP:20260421T171536Z
SUMMARY:[männliche E-Jugend Runde] CVJM  Walddorfhäslach 2 - CVJM HB Duß
 lingen-Gomaringen 1
URL:https://www.eichenkreuzliga.de/handball/game/id/17588
DTSTART:20250315T134500
DTEND:20250315T144500
LOCATION:Burgschulhalle\, 73257 Köngen
END:VEVENT
END:VCALENDAR
