BEGIN:VCALENDAR
PRODID:-//eluceo/ical//2.0/EN
VERSION:2.0
CALSCALE:GREGORIAN
BEGIN:VEVENT
UID:613d2b9554d04c16ec5d7ac732108b6e
DTSTAMP:20260421T170813Z
SUMMARY:[männliche E-Jugend Runde] EK Köngen  - CVJM  Walddorfhäslach 2
URL:https://www.eichenkreuzliga.de/handball/game/id/17590
DTSTART:20250315T110000
DTEND:20250315T120000
LOCATION:Burgschulhalle\, 73257 Köngen
END:VEVENT
END:VCALENDAR
