BEGIN:VCALENDAR
PRODID:-//eluceo/ical//2.0/EN
VERSION:2.0
CALSCALE:GREGORIAN
BEGIN:VEVENT
UID:b9c7eab051b46dc8bc32b126e0626767
DTSTAMP:20260421T171005Z
SUMMARY:[männliche E-Jugend Runde] CVJM  Walddorfhäslach 2 - CVJM  Walddo
 rfhäslach 
URL:https://www.eichenkreuzliga.de/handball/game/id/17669
DTSTART:20241116T160000
DTEND:20241116T170000
LOCATION:Ballspielhalle\, 72141 Walddorfhäslach
END:VEVENT
END:VCALENDAR
