BEGIN:VCALENDAR
PRODID:-//eluceo/ical//2.0/EN
VERSION:2.0
CALSCALE:GREGORIAN
BEGIN:VEVENT
UID:5f8de077b7f834d5657c790106769891
DTSTAMP:20260421T171837Z
SUMMARY:[männliche E-Jugend Runde] CVJM  Walddorfhäslach 2 - CVJM Hülben
  
URL:https://www.eichenkreuzliga.de/handball/game/id/17832
DTSTART:20250222T143000
DTEND:20250222T153000
LOCATION:Sporthalle\, 72138 Kirchentellinsfurt
END:VEVENT
END:VCALENDAR
