BEGIN:VCALENDAR
PRODID:-//eluceo/ical//2.0/EN
VERSION:2.0
CALSCALE:GREGORIAN
BEGIN:VEVENT
UID:62bcfee0c9a9a38a846cd9473a5f0b86
DTSTAMP:20260424T135427Z
SUMMARY:[weibliche D-Jugend Runde] SG Hagelloch/Kusterdingen Weibliche D-Ju
 gend 1 - CVJM Plochingen AK
URL:https://www.eichenkreuzliga.de/handball/game/id/19023
DTSTART:20251019T144500
DTEND:20251019T154500
LOCATION:Härtensporthalle\, 72127 Kusterdingen
END:VEVENT
END:VCALENDAR
