BEGIN:VCALENDAR
PRODID:-//eluceo/ical//2.0/EN
VERSION:2.0
CALSCALE:GREGORIAN
BEGIN:VEVENT
UID:24919251f5fe94327cf091761b43ecae
DTSTAMP:20260424T134926Z
SUMMARY:[weibliche D-Jugend Runde] SG Hagelloch/Kusterdingen Weibliche D-Ju
 gend 2 AK - CVJM Plochingen AK
URL:https://www.eichenkreuzliga.de/handball/game/id/19024
DTSTART:20251019T134500
DTEND:20251019T144500
LOCATION:Härtensporthalle\, 72127 Kusterdingen
END:VEVENT
END:VCALENDAR
