BEGIN:VCALENDAR
PRODID:-//eluceo/ical//2.0/EN
VERSION:2.0
CALSCALE:GREGORIAN
BEGIN:VEVENT
UID:1d488bf1de8e3b75a82da38be7c6900d
DTSTAMP:20260424T134721Z
SUMMARY:[weibliche D-Jugend Runde] SG Hagelloch/Kusterdingen Weibliche D-Ju
 gend 1 - EK Köngen 
URL:https://www.eichenkreuzliga.de/handball/game/id/19025
DTSTART:20251019T130000
DTEND:20251019T140000
LOCATION:Härtensporthalle\, 72127 Kusterdingen
END:VEVENT
END:VCALENDAR
