BEGIN:VCALENDAR
PRODID:-//eluceo/ical//2.0/EN
VERSION:2.0
CALSCALE:GREGORIAN
BEGIN:VEVENT
UID:8f1cbd6263a145f2d5bf7d9ef1372253
DTSTAMP:20260424T134506Z
SUMMARY:[weibliche D-Jugend Runde] SG Hagelloch/Kusterdingen Weibliche D-Ju
 gend 2 AK - EK Köngen 
URL:https://www.eichenkreuzliga.de/handball/game/id/19026
DTSTART:20251019T153000
DTEND:20251019T163000
LOCATION:Härtensporthalle\, 72127 Kusterdingen
END:VEVENT
END:VCALENDAR
