BEGIN:VCALENDAR
PRODID:-//eluceo/ical//2.0/EN
VERSION:2.0
CALSCALE:GREGORIAN
BEGIN:VEVENT
UID:9b88a6136b01e9b8c5e00748361e0990
DTSTAMP:20260424T134644Z
SUMMARY:[weibliche D-Jugend Runde] CVJM HB Dußlingen-Gomaringen 1 - CVJM  
 Walddorfhäslach 
URL:https://www.eichenkreuzliga.de/handball/game/id/19027
DTSTART:20251108T144500
DTEND:20251108T154500
LOCATION:Hönisch Sporthalle\, 72144 Dusslingen
END:VEVENT
END:VCALENDAR
