BEGIN:VCALENDAR
PRODID:-//eluceo/ical//2.0/EN
VERSION:2.0
CALSCALE:GREGORIAN
BEGIN:VEVENT
UID:81912fb2285f2290b6a7161a4eab9f30
DTSTAMP:20260424T134517Z
SUMMARY:[weibliche D-Jugend Runde] CVJM HB Dußlingen-Gomaringen 1 - CVJM K
 irchentellinsfurt 
URL:https://www.eichenkreuzliga.de/handball/game/id/19029
DTSTART:20251108T130000
DTEND:20251108T140000
LOCATION:Hönisch Sporthalle\, 72144 Dusslingen
END:VEVENT
END:VCALENDAR
