BEGIN:VCALENDAR
PRODID:-//eluceo/ical//2.0/EN
VERSION:2.0
CALSCALE:GREGORIAN
BEGIN:VEVENT
UID:868d9143550f7498e1a21e736de060a7
DTSTAMP:20260424T135043Z
SUMMARY:[weibliche D-Jugend Runde] CVJM HB Dußlingen-Gomaringen 2 - CVJM K
 irchentellinsfurt 
URL:https://www.eichenkreuzliga.de/handball/game/id/19030
DTSTART:20251108T153000
DTEND:20251108T163000
LOCATION:Hönisch Sporthalle\, 72144 Dusslingen
END:VEVENT
END:VCALENDAR
