BEGIN:VCALENDAR
PRODID:-//eluceo/ical//2.0/EN
VERSION:2.0
CALSCALE:GREGORIAN
BEGIN:VEVENT
UID:80cac99be10654963abfc4fcf9b8d8ba
DTSTAMP:20260424T134824Z
SUMMARY:[weibliche D-Jugend Runde] CVJM HB Dußlingen-Gomaringen 1 - CVJM U
 ntertürkheim 
URL:https://www.eichenkreuzliga.de/handball/game/id/19052
DTSTART:20260228T140000
DTEND:20260228T150000
LOCATION:Hönisch Sporthalle\, 72144 Dusslingen
END:VEVENT
END:VCALENDAR
