BEGIN:VCALENDAR
PRODID:-//eluceo/ical//2.0/EN
VERSION:2.0
CALSCALE:GREGORIAN
BEGIN:VEVENT
UID:85a6fdac0fed16d0ee26f3d77f7e73a4
DTSTAMP:20260421T120114Z
SUMMARY:[weibliche B-Jugend Runde] CVJM  Walddorfhäslach  - CVJM Kirchente
 llinsfurt 
URL:https://www.eichenkreuzliga.de/handball/game/id/19268
DTSTART:20260425T171500
DTEND:20260425T181500
LOCATION:Ballspielhalle\, 72141 Walddorfhäslach
END:VEVENT
END:VCALENDAR
