BEGIN:VCALENDAR
PRODID:-//eluceo/ical//2.0/EN
VERSION:2.0
CALSCALE:GREGORIAN
BEGIN:VEVENT
UID:1d5937457e7b1ac06ad497c39a6d51b6
DTSTAMP:20260420T010127Z
SUMMARY:[Männer Finalrunde LK2] CVJM HB Dußlingen-Gomaringen 2 - SG Hagel
 loch/Kusterdingen 1
URL:https://www.eichenkreuzliga.de/handball/game/id/19306
DTSTART:20260426T140000
DTEND:20260426T150000
LOCATION:Elisabeth-Selbert-Gymnasium Halle\, 70794 Bernhausen
END:VEVENT
END:VCALENDAR
