BEGIN:VCALENDAR
PRODID:-//eluceo/ical//2.0/EN
VERSION:2.0
CALSCALE:GREGORIAN
BEGIN:VEVENT
UID:03226eaad132819ac36f7714caa38de2
DTSTAMP:20260420T010312Z
SUMMARY:[Männer Finalrunde LK2] EK Bernhausen 1b - EK Köngen 1b
URL:https://www.eichenkreuzliga.de/handball/game/id/19307
DTSTART:20260426T160000
DTEND:20260426T170000
LOCATION:Elisabeth-Selbert-Gymnasium Halle\, 70794 Bernhausen
END:VEVENT
END:VCALENDAR
