BEGIN:VCALENDAR
PRODID:-//eluceo/ical//2.0/EN
VERSION:2.0
CALSCALE:GREGORIAN
BEGIN:VEVENT
UID:6f9bcfcd946e05f0248402db0a880015
DTSTAMP:20260420T005154Z
SUMMARY:[männliche D-Jugend Finalrunde] EJW Münchingen  - CVJM HB Dußlin
 gen-Gomaringen 1
URL:https://www.eichenkreuzliga.de/handball/game/id/19628
DTSTART:20260418T130000
DTEND:20260418T140000
LOCATION:Sporthalle\, 72138 Kirchentellinsfurt
END:VEVENT
END:VCALENDAR
